BEGIN:VCALENDAR
VERSION:2.0
PRODID:-//hacksw/handcal//NONSGML v1.0//EN
BEGIN:VEVENT
SUMMARY:Concours Exterieur du Mon'Arc
UID:53afa8c4-8f5d-448a-8edf-6fe1feb832bf
DTSTART:20260508T220000Z
DTEND:20260510T220000Z
LOCATION:Localisation Plaine des Sports Raymon Chabran, 384 Chemin de Saint Hilaire 84170 MONTEUX
CATEGORIES:Sportif
STATUS:
URL;VALUE=URI:https://monarcclubdemonteux.sportsregions.fr/evenements/2026/05/09/concours-exterieur-du-monarc-2438816
END:VEVENT
END:VCALENDAR
