BEGIN:VCALENDAR
VERSION:2.0
PRODID:-//hacksw/handcal//NONSGML v1.0//EN
BEGIN:VEVENT
SUMMARY:Tir du Roi- Fete du Mon'Arc
UID:3aab5177-5fea-4221-a307-884bec19dabf
DTSTART:20260613T120000Z
DTEND:20260613T210000Z
LOCATION:Localisation   
CATEGORIES:Festif
STATUS:
DESCRIPTION:<p>Comme chaque annee depuis 11 ans maintenant, le Club
 fete la fin de la saison pars son petit concours interne suivi de
 l'apero et d'un repas tous ensemble.</p>
URL;VALUE=URI:https://monarcclubdemonteux.sportsregions.fr/evenements/2026/06/13/tir-du-roi-fete-du-monarc-2438828
END:VEVENT
END:VCALENDAR
